BEGIN:VCALENDAR
VERSION:2.0
PRODID:-//Bubbler Foundation - ECPv6.15.20//NONSGML v1.0//EN
CALSCALE:GREGORIAN
METHOD:PUBLISH
X-WR-CALNAME:Bubbler Foundation
X-ORIGINAL-URL:https://bubblerfoundation.org
X-WR-CALDESC:Events for Bubbler Foundation
REFRESH-INTERVAL;VALUE=DURATION:PT1H
X-Robots-Tag:noindex
X-PUBLISHED-TTL:PT1H
BEGIN:VTIMEZONE
TZID:UTC
BEGIN:STANDARD
TZOFFSETFROM:+0000
TZOFFSETTO:+0000
TZNAME:UTC
DTSTART:20240101T000000
END:STANDARD
END:VTIMEZONE
BEGIN:VEVENT
DTSTART;TZID=UTC:20250831T120000
DTEND;TZID=UTC:20250831T160000
DTSTAMP:20260425T131320
CREATED:20250620T140808Z
LAST-MODIFIED:20250620T140935Z
UID:2164-1756641600-1756656000@bubblerfoundation.org
SUMMARY:Bubbler Foundation Festival Day
DESCRIPTION:Join the Bubbler Foundation for a day of fun\, food\, music\, and fireworks on Sunday August 31st\, 2025 from 12pm- 4pm. Each year\, we have over a 1\,000 people enjoy a beautiful day South Middleton Park for activities for all ages. From the Kids Zone with arts and crafts\, face painting\, snow cones and bubbles to fire trucks\, police cars\, local vendors serving up delicious food while you enjoy live music. Each year\, we run our Rubber Ducky Regatta at 3pm\, where hundreds of rubber ducks are released into the creek. The fastest ducks win prizes! Duckies will be available for purchase at the Foundation Pavilion\, so make sure to get yourself a duck or a Quack Pack of 5 for your family! \n\n\n\nAt dusk\, the fun continues over at the Boiling Springs High School Football Field for our annual Fireworks Display! The complex will open at 6:30 and each year the spectacle captures the imagination of all ages. \n\n\n\nThis entire day of events is made possible by donations of many businesses\, individuals\, and local clubs throughout the Carlisle Area. Everything is FREE (except the food.) The Bubbler Foundation would love to have everyone join us for this amazing annual event! #BFFDAY2025
URL:https://bubblerfoundation.org/event/bubbler-foundation-festival-day/
LOCATION:South Middleton Township Park\, 534 Park Drive\, Boiling Springs\, Pennsylvania\, 17007\, United States
ATTACH;FMTTYPE=image/jpeg:https://bubblerfoundation.org/wp-content/uploads/2025/06/BFFDay.jpg
END:VEVENT
BEGIN:VEVENT
DTSTART;TZID=UTC:20251207T110000
DTEND;TZID=UTC:20251207T190000
DTSTAMP:20260425T131320
CREATED:20250812T004839Z
LAST-MODIFIED:20251126T154249Z
UID:2187-1765105200-1765134000@bubblerfoundation.org
SUMMARY:Holidays at Children's Lake
DESCRIPTION:Join us and the Boiling Springs Civic Association for “Holidays at Children’s Lake” on Sunday\, December 7! \n\n\n\nFestivities begin at noon as Santa’s Village opens at the Gazebo with cookies\, hot cocoa\, candy canes\, letters to Santa\, a petting zoo\, holiday crafts\, birding information\, story time\, and photo boards. Enjoy live music by The Bubbler Band Christmas Ensemble starting at 12:30 PM. All activities are free. \n\n\n\nNew this year\, the Kris Kringle Marketplace opens at noon on the 100 block of Front Street near the Clocktower. Shop for local gifts and stocking stuffers such as the 2026 Boiling Springs calendar\, hand-knit hats\, local honey\, gourmet sauces\, natural greenery\, soy candles\, goat milk soaps and lotions\, local photography\, charcuterie boards\, pottery\, and more. Sip a hot mulled wine or craft cocktail in a collectible KrisKringlemarkt mug\, and explore delicious treats from food trucks\, cupcakes\, and gingerbread vendors. \n\n\n\nAt 1:00 PM\, Santa will arrive by boat across the lake to greet children and take photos. Pick up a clothespin to join the queue to see Santa\, and enjoy the free activities or browse the marketplace while you wait. Please note that at 4:00 PM\, clothespin distribution will end\, and no new entries will be added to the Santa line. \n\n\n\nAt 5:15 PM\, the Boiling Springs High School Concert Choir will perform Christmas carols\, followed by the lighting of the Tree on beautiful Children’s Lake. \n\n\n\nCome share in this joyful community celebration! \n\n\n\nThe Boiling Springs Civic Association would like to give special thanks to Liberty Farm Christmas Trees & Shoppe\, F&M Trust\, Karns\, Citizens Fire Company\, the Bubbler Foundation\, Boy Scout Troop 171\, Destiny Farms\, Rice and Iron Forge PTO\, Bird Town Pennsylvania\, South Middleton Township\, The Bubbler Band\, the BSHS Concert Choir\, and the BSCA Tree Lighting Committee. Additional gratitude also goes to South Middleton Township\, especially Sarah Colondrillo\, Director of Parks & Recreation\, and Kurt Uhler\, Director of Public Works. \n\n\n\n\n\nVideo courtesy of Dan’s Cool Videos
URL:https://bubblerfoundation.org/event/community-christmas-event/
LOCATION:Children’s Lake\, 4 East 1st Street\, Boiling Springs\, Pennsylvania\, 17007\, United States
ATTACH;FMTTYPE=image/jpeg:https://bubblerfoundation.org/wp-content/uploads/2025/08/Christmas-Market.jpg
ORGANIZER;CN="Boiling Springs Civic Association":MAILTO:bsca362@gmail.com
END:VEVENT
BEGIN:VEVENT
DTSTART;TZID=UTC:20260221T080000
DTEND;TZID=UTC:20260221T170000
DTSTAMP:20260425T131320
CREATED:20251212T000803Z
LAST-MODIFIED:20260221T011721Z
UID:2200-1771660800-1771693200@bubblerfoundation.org
SUMMARY:2026 Mini-Golf Tournament
DESCRIPTION:Indoor Mini Golf Tournament Fundraiser is back!!!!!  \n\n\n\nCome join us and have fun with the family while we raise money for our foundation! \n\n\n\nEvent Timing: February 21st\, 2026Event Address: Iron Forge Elementary School\, 4 Academy Street\, Suite 100\, Boiling Springs\, PA 17007 \n\n\n\nWe have putters and golf balls for each player\, but you may bring your own putter if you choose to do so. Be sure to return all putters and balls when you complete the course. There will be NO mulligans/do-overs. \n\n\n\nWe will be playing the “best ball” format. That is\, all 4 players will hit the ball but will play from the spot of the best shot made by your team. Only one score is recorded for each team per hole. Continue until the ball is in the hole and move to the next hole. \n\n\n\nEach team starts on a designated hole and will play all 18 holes\, which should take approximately 1.5 hours. \n\n\n\nThere will be a Hole in one Hole with a prize! A designated hole will be an opportunity to win a prize. A single player must get the ball from the tee to the hole in one stroke. \n\n\n\nThere will be prizes for each flight’s first-place teams. \n\n\n\nCome play in the halls of Iron Forge with obstacles while you support this worthy organization!
URL:https://bubblerfoundation.org/event/2026-mini-golf-tournament/
LOCATION:Iron Forge Elementary School\, 4 Academy Street\, Boiling Springs\, Pennsylvania\, 17007\, United States
ATTACH;FMTTYPE=image/jpeg:https://bubblerfoundation.org/wp-content/uploads/2026/01/MiniGolf_Alt2.jpg
ORGANIZER;CN="Bubbler Foundation":MAILTO:mailto:communityandsmsd@bubblerfoundation.org
END:VEVENT
BEGIN:VEVENT
DTSTART;TZID=UTC:20260508T180000
DTEND;TZID=UTC:20260508T210000
DTSTAMP:20260425T131320
CREATED:20260331T141559Z
LAST-MODIFIED:20260331T142033Z
UID:2918-1778263200-1778274000@bubblerfoundation.org
SUMMARY:Bubbler Foundation Annual Dinner and Awards Ceremony
DESCRIPTION:Registration is open until April 24th\, 2026 and we have LIMITED SEATING\n\n\n\n6:00-7:00 PM Cocktail and Appetizer Hour \n\n\n\n-Hot and cold appetizers-Beer and wine will be available \n\n\n\n7:00 PM Dinner/Dessert/Coffee \n\n\n\n– Includes a salad and a served buffet with beef brisket\, chicken\, and fettuccine milano as options. \n\n\n\nThere will also be a silent auction\, our Wall of Acclaim Presentations\, and the Staff Performance Award (SPA)!! \n\n\n\nPurchase Tickets Here
URL:https://bubblerfoundation.org/event/bubbler-foundation-annual-dinner-and-awards-ceremony/
LOCATION:Strock Enterprises Inc\, 729 Williams Grove Rd\, Mechanicsburg\, Pennsylvania\, 17055\, United States
ATTACH;FMTTYPE=image/jpeg:https://bubblerfoundation.org/wp-content/uploads/2026/03/BubblerFoundation_AnnualAwardsDinner.jpg
ORGANIZER;CN="Bubbler Foundation":MAILTO:mailto:communityandsmsd@bubblerfoundation.org
END:VEVENT
END:VCALENDAR