BEGIN:VCALENDAR
VERSION:2.0
PRODID:-//Bubbler Foundation - ECPv6.15.20//NONSGML v1.0//EN
CALSCALE:GREGORIAN
METHOD:PUBLISH
X-WR-CALNAME:Bubbler Foundation
X-ORIGINAL-URL:https://bubblerfoundation.org
X-WR-CALDESC:Events for Bubbler Foundation
REFRESH-INTERVAL;VALUE=DURATION:PT1H
X-Robots-Tag:noindex
X-PUBLISHED-TTL:PT1H
BEGIN:VTIMEZONE
TZID:UTC
BEGIN:STANDARD
TZOFFSETFROM:+0000
TZOFFSETTO:+0000
TZNAME:UTC
DTSTART:20240101T000000
END:STANDARD
END:VTIMEZONE
BEGIN:VEVENT
DTSTART;TZID=UTC:20250831T120000
DTEND;TZID=UTC:20250831T160000
DTSTAMP:20260425T155642
CREATED:20250620T140808Z
LAST-MODIFIED:20250620T140935Z
UID:2164-1756641600-1756656000@bubblerfoundation.org
SUMMARY:Bubbler Foundation Festival Day
DESCRIPTION:Join the Bubbler Foundation for a day of fun\, food\, music\, and fireworks on Sunday August 31st\, 2025 from 12pm- 4pm. Each year\, we have over a 1\,000 people enjoy a beautiful day South Middleton Park for activities for all ages. From the Kids Zone with arts and crafts\, face painting\, snow cones and bubbles to fire trucks\, police cars\, local vendors serving up delicious food while you enjoy live music. Each year\, we run our Rubber Ducky Regatta at 3pm\, where hundreds of rubber ducks are released into the creek. The fastest ducks win prizes! Duckies will be available for purchase at the Foundation Pavilion\, so make sure to get yourself a duck or a Quack Pack of 5 for your family! \n\n\n\nAt dusk\, the fun continues over at the Boiling Springs High School Football Field for our annual Fireworks Display! The complex will open at 6:30 and each year the spectacle captures the imagination of all ages. \n\n\n\nThis entire day of events is made possible by donations of many businesses\, individuals\, and local clubs throughout the Carlisle Area. Everything is FREE (except the food.) The Bubbler Foundation would love to have everyone join us for this amazing annual event! #BFFDAY2025
URL:https://bubblerfoundation.org/event/bubbler-foundation-festival-day/
LOCATION:South Middleton Township Park\, 534 Park Drive\, Boiling Springs\, Pennsylvania\, 17007\, United States
ATTACH;FMTTYPE=image/jpeg:https://bubblerfoundation.org/wp-content/uploads/2025/06/BFFDay.jpg
END:VEVENT
BEGIN:VEVENT
DTSTART;TZID=UTC:20250120T080000
DTEND;TZID=UTC:20250120T140000
DTSTAMP:20260425T155642
CREATED:20241213T015048Z
LAST-MODIFIED:20241213T022150Z
UID:78-1737360000-1737381600@bubblerfoundation.org
SUMMARY:2024 Mini Golf
DESCRIPTION:Indoor Mini Golf Tournament Fundraiser is back by popular demand! Come join us and have fun with the family while we raise money for our 501(c)(3). \n\n\n\nEvent Timing: January 20th\, 2024Event Address: Iron Forge Elementary School\, 4 Academy Street\, Suite 100\, Boiling Springs\, PA 17007 \n\n\n\nWe have putters and golf balls for each player\, but you may bring your own putter if you choose to do so. Be sure to return all putters and balls when you complete the course. There will be NO mulligans/do-overs. \n\n\n\nWe will be playing “best ball” format. That is: all 4 players will hit the ball\, but will play from the spot of the best shot made by your team. Only one score is recorded for each team per hole. Continue until the ball is in the hole and move to the next hole. \n\n\n\nEach team starts on a designated hole and will play all 18 holes\, which should take approximately 1.5 hours. \n\n\n\nThere will be a Hole in one Hole with a prize! A designated hole will be an opportunity to win a prize. A single player must get the ball from the tee to the hole in one stroke. \n\n\n\nThere will be prizes for each flight’s First Place teams. \n\n\n\nCome play in the halls of Iron Forge with obstacles while you support this worthy organization! \n\n\n\n\nRegister
URL:https://bubblerfoundation.org/event/2024-mini-golf/
LOCATION:Iron Forge Elementary School\, 4 Academy Street\, Boiling Springs\, Pennsylvania\, 17007\, United States
ORGANIZER;CN="Bubbler Foundation":MAILTO:mailto:communityandsmsd@bubblerfoundation.org
END:VEVENT
END:VCALENDAR